BEGIN:VCALENDAR
VERSION:2.0
CALSCALE:GREGORIAN
PRODID:-//Diputació de Barcelona//DibaCMS//EN
BEGIN:VEVENT
UID:1836
DTSTAMP:20260424T183834
DTSTART:20260522T000000
DTEND:20260522T000000
SUMMARY:bibliobús 2026   
LOCATION:
METHOD:PUBLISH
X-WR-CALNAME:orista@orista.cat
X-WR-TIMEZONE:Europe/Madrid
DESCRIPTION:Oristà

d'11 h a 13.30 h

URI:https://www.orista.cat/actualitat/agenda/1836-bibliobus-2026-.html
CLASS:PUBLIC
END:VEVENT
END:VCALENDAR
