BEGIN:VCALENDAR
VERSION:2.0
CALSCALE:GREGORIAN
PRODID:-//Diputació de Barcelona//DibaCMS//EN
BEGIN:VEVENT
UID:1835
DTSTAMP:20260422T165828
DTSTART:20260508T000000
DTEND:20260508T000000
SUMMARY:bibliobús 2026  
LOCATION:
METHOD:PUBLISH
X-WR-CALNAME:orista@orista.cat
X-WR-TIMEZONE:Europe/Madrid
DESCRIPTION:Oristà

d'11 h a 13.30 h

URI:https://www.orista.cat/actualitat/agenda/1835-bibliobus-2026-.html
CLASS:PUBLIC
END:VEVENT
END:VCALENDAR
