BEGIN:VCALENDAR
VERSION:2.0
CALSCALE:GREGORIAN
PRODID:-//Diputació de Barcelona//DibaCMS//EN
BEGIN:VEVENT
UID:1826
DTSTAMP:20260426T032405
DTSTART:20260225T000000
DTEND:20260225T000000
SUMMARY:CAIXABANK   
LOCATION:
METHOD:PUBLISH
X-WR-CALNAME:orista@orista.cat
X-WR-TIMEZONE:Europe/Madrid
DESCRIPTION:
URI:https://www.orista.cat/actualitat/agenda/1826-caixabank-.html
CLASS:PUBLIC
END:VEVENT
END:VCALENDAR
