BEGIN:VCALENDAR
VERSION:2.0
CALSCALE:GREGORIAN
PRODID:-//Diputació de Barcelona//DibaCMS//EN
BEGIN:VEVENT
UID:1820
DTSTAMP:20260426T032848
DTSTART:20260128T000000
DTEND:20260128T000000
SUMMARY:3a Escola de Salut del Lluçanès 
LOCATION:
METHOD:PUBLISH
X-WR-CALNAME:orista@orista.cat
X-WR-TIMEZONE:Europe/Madrid
DESCRIPTION:GENER : El bon tracte a les persones grans

URI:https://www.orista.cat/actualitat/agenda/3a-escola-de-salut-del-llucanes-.html
CLASS:PUBLIC
END:VEVENT
END:VCALENDAR
