BEGIN:VCALENDAR
VERSION:2.0
CALSCALE:GREGORIAN
PRODID:-//Diputació de Barcelona//DibaCMS//EN
BEGIN:VEVENT
UID:1819
DTSTAMP:20260426T044928
DTSTART:20260210T000000
DTEND:20260210T000000
SUMMARY:Oficina Mòbil del Consumidor 
LOCATION:
METHOD:PUBLISH
X-WR-CALNAME:orista@orista.cat
X-WR-TIMEZONE:Europe/Madrid
DESCRIPTION:
URI:https://www.orista.cat/actualitat/agenda/1819-oficina-mobil-del-consumidor-.html
CLASS:PUBLIC
END:VEVENT
END:VCALENDAR
