BEGIN:VCALENDAR
VERSION:2.0
CALSCALE:GREGORIAN
PRODID:-//Diputació de Barcelona//DibaCMS//EN
BEGIN:VEVENT
UID:1807
DTSTAMP:20260425T194449
DTSTART:20251128T000000
DTEND:20251201T000000
SUMMARY:Festa Major Oristà 25
LOCATION:
METHOD:PUBLISH
X-WR-CALNAME:orista@orista.cat
X-WR-TIMEZONE:Europe/Madrid
DESCRIPTION:
URI:https://www.orista.cat/actualitat/agenda/festa-major-orista-25.html
CLASS:PUBLIC
END:VEVENT
END:VCALENDAR
