BEGIN:VCALENDAR
VERSION:2.0
CALSCALE:GREGORIAN
PRODID:-//Diputació de Barcelona//DibaCMS//EN
BEGIN:VEVENT
UID:1709
DTSTAMP:20260421T020505
DTSTART:20251219T000000
DTEND:20251219T000000
SUMMARY:bibliobús 2025 
LOCATION:
METHOD:PUBLISH
X-WR-CALNAME:orista@orista.cat
X-WR-TIMEZONE:Europe/Madrid
DESCRIPTION:Oristà

d'11 h a 13.30 h

URI:https://www.orista.cat/actualitat/agenda/1709-bibliobus-2025-.html
CLASS:PUBLIC
END:VEVENT
END:VCALENDAR
